BEGIN:VCALENDAR
VERSION:2.0
PRODID:-//Ernährungsrat Metropolregion Hamburg - ECPv6.15.20//NONSGML v1.0//EN
CALSCALE:GREGORIAN
METHOD:PUBLISH
X-WR-CALNAME:Ernährungsrat Metropolregion Hamburg
X-ORIGINAL-URL:https://ernaehrungsrat-hamburg.de
X-WR-CALDESC:Veranstaltungen für Ernährungsrat Metropolregion Hamburg
REFRESH-INTERVAL;VALUE=DURATION:PT1H
X-Robots-Tag:noindex
X-PUBLISHED-TTL:PT1H
BEGIN:VTIMEZONE
TZID:UTC
BEGIN:STANDARD
TZOFFSETFROM:+0000
TZOFFSETTO:+0000
TZNAME:UTC
DTSTART:20240101T000000
END:STANDARD
END:VTIMEZONE
BEGIN:VEVENT
DTSTART;TZID=UTC:20251203T170000
DTEND;TZID=UTC:20251203T190000
DTSTAMP:20260420T193327
CREATED:20250612T041620Z
LAST-MODIFIED:20260119T164916Z
UID:206-1764781200-1764788400@ernaehrungsrat-hamburg.de
SUMMARY:Der Blick in die Tonne – Welche Lebensmittel werden bei uns nicht gegessen?“
DESCRIPTION:Lebensmittelverluste entstehen entlang der gesamten Wertschöpfungskette – nicht nur in privaten Haushalten. In der Veranstaltung möchten wir mit der Expertin Prof. Dr. Nina Langen (Leiterin des Fachgebiets Bildung für nachhaltige Ernährung und Lebensmittelwissenschaft der Technischen Universität Berlin) systematisch beleuchten\, wo und warum Lebensmittelüberschüsse entstehen und welche konkreten Handlungsansätze es zur Reduktion gibt. Die Veranstaltung dient zugleich als Vorbereitung auf den Stakeholder-Prozess zur Entwicklung einer Ernährungsstrategie für Hamburg. \nInhalte der Veranstaltung: \n\nÜberblick über Lebensmittelverluste in verschiedenen Stufen der Wertschöpfungskette\nDiskussion zentraler Herausforderungen und Lösungsmöglichkeiten\nIdentifikation relevanter Akteur:innen\nBeitrag zur Entwicklung der Hamburger Ernährungsstrategie\n\nEin besonderer Fokus liegt auf der Frage\, wie wir möglichst viele Menschen in Hamburg für das Thema gewinnen – nicht nur die bereits Engagierten. \nDie Teilnahme ist kostenfrei.\nAnmeldung via E-Mail an post@ernaehrungsrat-hamburg.de\nDie Zugangsdaten senden wir nach Anmeldung zu. \nWir freuen uns auf den gemeinsamen Austausch! \nAG Lebensmittelverschwendung\nLaura\, Katrin und Sebastian
URL:https://ernaehrungsrat-hamburg.de/event/der-blick-in-die-tonne/
LOCATION:Blick in die Tonne\, Online - Anmeldung über post@ernaehrungrat-hamburg.de
ATTACH;FMTTYPE=image/png:https://ernaehrungsrat-hamburg.de/wp-content/uploads/2025/06/Tonne.png
END:VEVENT
END:VCALENDAR