BEGIN:VCALENDAR
VERSION:2.0
PRODID:-//Ernährungsrat Metropolregion Hamburg - ECPv6.15.20//NONSGML v1.0//EN
CALSCALE:GREGORIAN
METHOD:PUBLISH
X-WR-CALNAME:Ernährungsrat Metropolregion Hamburg
X-ORIGINAL-URL:https://ernaehrungsrat-hamburg.de
X-WR-CALDESC:Veranstaltungen für Ernährungsrat Metropolregion Hamburg
REFRESH-INTERVAL;VALUE=DURATION:PT1H
X-Robots-Tag:noindex
X-PUBLISHED-TTL:PT1H
BEGIN:VTIMEZONE
TZID:Europe/Berlin
BEGIN:DAYLIGHT
TZOFFSETFROM:+0100
TZOFFSETTO:+0200
TZNAME:CEST
DTSTART:20250330T010000
END:DAYLIGHT
BEGIN:STANDARD
TZOFFSETFROM:+0200
TZOFFSETTO:+0100
TZNAME:CET
DTSTART:20251026T010000
END:STANDARD
BEGIN:DAYLIGHT
TZOFFSETFROM:+0100
TZOFFSETTO:+0200
TZNAME:CEST
DTSTART:20260329T010000
END:DAYLIGHT
BEGIN:STANDARD
TZOFFSETFROM:+0200
TZOFFSETTO:+0100
TZNAME:CET
DTSTART:20261025T010000
END:STANDARD
BEGIN:DAYLIGHT
TZOFFSETFROM:+0100
TZOFFSETTO:+0200
TZNAME:CEST
DTSTART:20270328T010000
END:DAYLIGHT
BEGIN:STANDARD
TZOFFSETFROM:+0200
TZOFFSETTO:+0100
TZNAME:CET
DTSTART:20271031T010000
END:STANDARD
END:VTIMEZONE
BEGIN:VEVENT
DTSTART;TZID=Europe/Berlin:20260318T150000
DTEND;TZID=Europe/Berlin:20260318T190000
DTSTAMP:20260420T110048
CREATED:20260304T163717Z
LAST-MODIFIED:20260304T170648Z
UID:1152-1773846000-1773860400@ernaehrungsrat-hamburg.de
SUMMARY:End of Fish Day
DESCRIPTION:Hering\, Lachs\, leere Meere. Wie können wir die Fischkonsumwende schaffen? Online Dialog\nGemeinsam mit Brot für die Welt und Fair Oceans lädt Essen mit Zukunft e. V. zum End of Fish Day ein. \n\nWelche Rolle spielt die weltweite Überfischung für die marinen Ökosysteme und die globale Ernährungssicherheit?\nUnd was hat Fischmehl als Basis der Futtermittel in Aquakulturen\, zum Beispiel für Lachse\, damit zu tun?\nWelche Verantwortung tragen die industrielle Fischerei und Deutschland als Importland?\nUnd welche Rolle spielen Politik\, Handel und Gemeinschaftsverpflegung?\n\nBeim Online-Dialog diskutieren Expert:innen aus Wissenschaft\, Politik und Zivilgesellschaft über Wege zu einer Fischkonsumwende. Anmeldung bei Essen mit Zukunft e.V. \nProgramm:\nTeil 1: Ernährungssicherheit und natürliche Lebensgrundlagen in Gefahr – Was muss sich in der Fischerei ändern?  Fischerei in der globalen Krise: \n\nGlobale Überfischung\nGefährdung der Kleinfischerei\, der lokalen Fischversorgung\nder Ernährungssicherheit durch industrielle Fischerei. Lachs-Aquakulturen: Fischmehl- /Fischölproduktion und die Folgen für die lokale Fischversorgung.\n\nDiskussion: Welche Handlungsbedarfe gibt es in Deutschland und Europa für eine nachhaltige Fischereipolitik? \nTeil 2: Fischkonsumwende als Basis für eine nachhaltige Fischerei \n\nWelcher fisch bleibt uns noch?\nWie können die DGE und Einrichtungen mit Gemeinschaftsverpflegung zu einem nachhaltigen Fischkonsum beitragen?\n\nDiskussion: Welche Verantwortung sollten Unternehmen für einen nachhaltigen Fischkonsum übernehmen? \nHier findest Du alle Details: \n \nJulia Sievers von Essen mit Zukunft e. V. ist Gründungsmitglied des Ernährungsrates und engagiert sich im Vorstand. Auf der Website von Essen mit Zukunft e.V. wurden mehrere Berichte über eine Zukunft ohne Fisch veröffentlicht. Auch wenn du am 18.03. nicht dabei sein kannst\, gibt es zu diesem Thema viele interessante Lektüren!\nHier weiterlesen \n 
URL:https://ernaehrungsrat-hamburg.de/event/end-of-fish-day/
ATTACH;FMTTYPE=image/jpeg:https://ernaehrungsrat-hamburg.de/wp-content/uploads/2026/03/End-of-Fish-Day-Essen-mit-Zukunft-eV.-2.jpg
END:VEVENT
END:VCALENDAR